BEGIN:VCALENDAR
VERSION:2.0
PRODID:-//Fiskarin urheilijat -47 - ECPv6.15.11//NONSGML v1.0//EN
CALSCALE:GREGORIAN
METHOD:PUBLISH
X-WR-CALNAME:Fiskarin urheilijat -47
X-ORIGINAL-URL:https://www.fu-47.fi
X-WR-CALDESC:Tapahtumat Fiskarin urheilijat -47
REFRESH-INTERVAL;VALUE=DURATION:PT1H
X-Robots-Tag:noindex
X-PUBLISHED-TTL:PT1H
BEGIN:VTIMEZONE
TZID:Europe/Helsinki
BEGIN:DAYLIGHT
TZOFFSETFROM:+0200
TZOFFSETTO:+0300
TZNAME:EEST
DTSTART:20240331T010000
END:DAYLIGHT
BEGIN:STANDARD
TZOFFSETFROM:+0300
TZOFFSETTO:+0200
TZNAME:EET
DTSTART:20241027T010000
END:STANDARD
BEGIN:DAYLIGHT
TZOFFSETFROM:+0200
TZOFFSETTO:+0300
TZNAME:EEST
DTSTART:20250330T010000
END:DAYLIGHT
BEGIN:STANDARD
TZOFFSETFROM:+0300
TZOFFSETTO:+0200
TZNAME:EET
DTSTART:20251026T010000
END:STANDARD
BEGIN:DAYLIGHT
TZOFFSETFROM:+0200
TZOFFSETTO:+0300
TZNAME:EEST
DTSTART:20260329T010000
END:DAYLIGHT
BEGIN:STANDARD
TZOFFSETFROM:+0300
TZOFFSETTO:+0200
TZNAME:EET
DTSTART:20261025T010000
END:STANDARD
END:VTIMEZONE
BEGIN:VEVENT
DTSTART;TZID=Europe/Helsinki:20251213T100000
DTEND;TZID=Europe/Helsinki:20251213T150000
DTSTAMP:20260423T141209
CREATED:20251110T173813Z
LAST-MODIFIED:20251110T173813Z
UID:1017-1765620000-1765638000@www.fu-47.fi
SUMMARY:Joulukuusimyynti 13.12.2025
DESCRIPTION:
URL:https://www.fu-47.fi/event/joulukuusimyynti-13-12-2025/
LOCATION:FU-47 seuramaja\, Kalliomäentie 4\, Fiskari\, 10470
END:VEVENT
BEGIN:VEVENT
DTSTART;TZID=Europe/Helsinki:20251220T100000
DTEND;TZID=Europe/Helsinki:20251220T150000
DTSTAMP:20260423T141209
CREATED:20251110T172316Z
LAST-MODIFIED:20251110T174052Z
UID:1010-1766224800-1766242800@www.fu-47.fi
SUMMARY:Joulumyyjäiset 20.12.2025
DESCRIPTION:
URL:https://www.fu-47.fi/event/joulumyyjaiset-20-12-2025/
LOCATION:FU-47 seuramaja\, Kalliomäentie 4\, Fiskari\, 10470
END:VEVENT
END:VCALENDAR